Workbook
Name B: [1]VALIDATIONSHEET!$H$3:$H$9
Name D: 'Vaste data'!#REF!
Name Detectie: 'Vaste data'!$C$2:$C$6
Name E: [1]VALIDATIONSHEET!$I$3:$I$9
Name E: 'Vaste data'!#REF!
Name Ernst: 'Vaste data'!$A$2:$A$6
Name gevaar__gevaarlijke_situaties_of_handelingen: [1]VALIDATIONSHEET!$K$2:$K$103
Name O: 'Vaste data'!#REF!
Name Opportuniteit: 'Vaste data'!$B$2:$B$6
Name risico: [1]VALIDATIONSHEET!$L$3:$L$68
Name W: [1]VALIDATIONSHEET!$G$3:$G$9

Sheet Vaste data
A1: Ernst | B1: Opportuniteit | C1: Detectie
A2: 5 | B2: 5 | C2: 5
A3: 4 | B3: 4 | C3: 4
A4: 3 | B4: 3 | C4: 3
A5: 2 | B5: 2 | C5: 2
A6: 1 | B6: 1 | C6: 1
A8: Risicogroepen
A9: 20
A10: 29
A11: 60
A14: ww | B14: laboqa

Sheet Risicoanalyse
A1: RISICOANALYSE | D1: Opgesteld door Sophie Van Aelst
D2: datum: 13/08/2024 | E2: Bijgewerkt 08/01/2025, 23/03/2026, 26/05/2026, 8/09/2026
A3: Noodprocedure
A4: Nr. | B4: Processtap | C4: Mogelijke risico's | D4: Gevolgen | E4: Oorzaken van de falingswijzen | F4: Huidige preventieve maatregelen | G4: Risico-inschatting | L4: Actieplan | M4: Documentatie?
G5: E | H5: O | I5: D | J5: RPN score | K5: Risico
A6: 1 | B6: Intern | C6: Brand, ontploffing, instorting(sgevaar) in het labo | D6: gevaar voor medewerkers en patiënten | E6: divers | F6: SOP.ORG.10 NOODPLAN LABORATORIUM. | G6: 5 | H6: 1 | I6: 2 | J6: =G6*H6*I6 -> 10 | K6: =IF(J6<'Vaste data'!$A$9," Aanvaardbaar ",IF(J6<='Vaste data'!$A$10,"Aanvaardbaar",IF(J6>='Vaste data'!$A$11,"Niet aanvaardbaar, dringend actie nodig","Aanvaardbaar, actie nodig"))) -> Aanvaardbaar | M6: Opgenomen in SOP.ORG.10
A7: 2 | B7: Extern | C7: Brand, ontploffing, instorting(sgevaar) in het ziekenhuis | D7: gevaar voor medewerkers en patiënten | E7: divers | F7: SOP.ORG.10 NOODPLAN LABORATORIUM. | G7: 5 | H7: 1 | I7: 2 | J7: =G7*H7*I7 -> 10 | K7: =IF(J7<'Vaste data'!$A$9," Aanvaardbaar ",IF(J7<='Vaste data'!$A$10,"Aanvaardbaar",IF(J7>='Vaste data'!$A$11,"Niet aanvaardbaar, dringend actie nodig","Aanvaardbaar, actie nodig"))) -> Aanvaardbaar | M7: Opgenomen in SOP.ORG.10
A8: 3 | B8: Extern | C8: Andere minder waarschijnlijke risico's die leiden tot evacuatie (gaslek, bommelding,...) | D8: gevaar voor medewerkers en patiënten | E8: divers | F8: SOP.ORG.10 NOODPLAN LABORATORIUM. | G8: 5 | H8: 1 | I8: 2 | J8: =G8*H8*I8 -> 10 | K8: =IF(J8<'Vaste data'!$A$9," Aanvaardbaar ",IF(J8<='Vaste data'!$A$10,"Aanvaardbaar",IF(J8>='Vaste data'!$A$11,"Niet aanvaardbaar, dringend actie nodig","Aanvaardbaar, actie nodig"))) -> Aanvaardbaar | M8: Opgenomen in SOP.ORG.10
A9: 4 | B9: Extern | C9: Elektriciteitspanne/stroomonderbreking | D9: Geen stroom voor werking labo: Een stroomonderbreking kan leiden tot onderbreking van lopende analyses, verlies van staalgegevens of foutieve toestel (her)opstart, met mogelijke vertraging in rapportering van (kritische) resultaten en impact op patiëntenzorg. | E9: divers (bv. werken,…) | F9: SOP.ORG.10 NOODPLAN LABORATORIUM. , eventueel ook DOC.ORG.30 NOODPROCEDURE BIJ UITVAL GLIMS, BLB.STK.18 WERKWIJZE BLOEDBANK BIJ AL DAN NIET GEPLAND UITVAL GLIMS. Het ziekenhuis beschikt over een noodstroomgenerator om stroomonderbrekingen op te vangen. In het laboratorium zijn alle stopcontacten aangesloten op deze noodstroomvoorziening. Hierdoor zal de stroomonderbreking van korte duur zijn. Een aantal van de toestellen zijn tevens uitgerust met een UPS (noodvoeding). Welke toestellen op UPS staan, wordt altijd overwogen en beslist tijdens de validatie van de toestellen. Centrale UPS: Cobas TLA. Eigen UPS: Eflexis, Bactec, Immunocap, Vitek. SOP.ORG.10 NOODPLAN LABORATORIUM + DOC.ORG.30 NOODPROCEDURE BIJ UITVAL GLIMS zitten afgedrukt in het noodbakje.Na elke stroomonderbreking is er een nazicht van de apparaten en de lopende staalgegevens noodzakelijk (zie STK.ORG.24: “Start instructies - wachtwoorden - gebruiksnamen” voor hulp bij het nazicht en opstarten van de toestellen). Dit wordt uitgevoerd door de aanwezige MLT's. Bij opstartproblemen kan eventueel de toestelverantwoordelijke gecontacteerd worden (zie STK.ORG.14: “Verantwoordelijken & plaatsvervangers” ). Na opstart toestellen: iQC draaien en goedkeuren. Koppelingen testen: iQC resultaten zichtbaar in GLIMS? | G9: 3 | H9: 3 | I9: 2 | J9: =G9*H9*I9 -> 18 | K9: =IF(J9<'Vaste data'!$A$9," Aanvaardbaar ",IF(J9<='Vaste data'!$A$10,"Aanvaardbaar",IF(J9>='Vaste data'!$A$11,"Niet aanvaardbaar, dringend actie nodig","Aanvaardbaar, actie nodig"))) -> Aanvaardbaar | L9: Na (eventuele) herstart toestellen: eerst iQC draaien vooraleer pat.stalen. | M9: Opgenomen in SOP.ORG.10.
A10: 5 | B10: Informaticasystemen | C10: Uitval Mithras | D10: kwaliteitssysteem is tijdelijk niet raadpleegbaar, tijdelijk geen toegang tot procedures, meeting/verslagen,klachtenmodule, investmodule… | E10: IT-probleem | F10: Contact firma. Mithras is geen hyperkritisch systeem. Er kan een aantal dagen zonder Mithras gewerkt worden, er is geen vertaging qua verwerking patiëntstalen en resultaten. Alle personen zijn opgeleid en kunnen werken met de toestellen (tiijdelijk zonder directe toegang tot Mithras). De MLT contacteert IT-verantwoordelijke labo en KM/KC -> contacteer IT + firma. Aandacht voor de dagelijkse en wekelijkse onderhouden: Schema op te maken door HMLT's. | G10: 1 | H10: 2 | I10: 2 | J10: =G10*H10*I10 -> 4 | K10: =IF(J10<'Vaste data'!$A$9," Aanvaardbaar ",IF(J10<='Vaste data'!$A$10,"Aanvaardbaar",IF(J10>='Vaste data'!$A$11,"Niet aanvaardbaar, dringend actie nodig","Aanvaardbaar, actie nodig"))) -> Aanvaardbaar | M10: Opgenomen in SOP.ORG.10.
A11: 6 | B11: Informaticasystemen | C11: Uitval GLIMS | D11: Geen elektronische order verwerking. Geen elekronische validatie of vrijgave van resultaten. Nood tot manuele registratie en rapporteren. Verhoogd risico op transcriptiefouten. Vertraging in rapportering van kritische resultaten. | E11: IT-probleem | F11: DOC.ORG.30 NOODPROCEDURE BIJ UITVAL GLIMS; BLB.STK.18 WERKWIJZE BLOEDBANK BIJ AL DAN NIET GEPLANDE UITVAL GLIMS | G11: 3 | H11: 3 | I11: 2 | J11: =G11*H11*I11 -> 18 | K11: =IF(J11<'Vaste data'!$A$9," Aanvaardbaar ",IF(J11<='Vaste data'!$A$10,"Aanvaardbaar",IF(J11>='Vaste data'!$A$11,"Niet aanvaardbaar, dringend actie nodig","Aanvaardbaar, actie nodig"))) -> Aanvaardbaar | M11: Gedocumenteerd. DOC.ORG.30 en BLB.STK.18
A12: 7 | B12: Informaticasystemen | C12: Uitval Primuz | D12: Resultaten van patiënten zijn niet zichtbaar voor artsen via de gebruikelijke manier, mogelijk laattijdig zichtbaar worden van (kritische) resultaten met als gevolg impact op patiëntenzorg. Ook het aanmaken van orders, bijaanvragen en monsterafname kan niet op gebruikelijke manier. Er kan wel gebruik gemaakt worden van de open versie van Cyberlab. | E12: IT probleem | F12: IT labo + IT dienst ziekenhuis verwittigen. Cyberlab: Noodplan werd opgesteld (te raadplegen in Zenya). Artsen kunnen resultaten raadplegen via Cyberlab (open versie). | G12: 3 | H12: 3 | I12: 2 | J12: =G12*H12*I12 -> 18 | K12: =IF(J12<'Vaste data'!$A$9," Aanvaardbaar ",IF(J12<='Vaste data'!$A$10,"Aanvaardbaar",IF(J12>='Vaste data'!$A$11,"Niet aanvaardbaar, dringend actie nodig","Aanvaardbaar, actie nodig"))) -> Aanvaardbaar | L12: SLA IT vernieuwen en in opnemen (08/2024). 08/01/2025: SLA IT vernieuwd! | M12: Opgenomen in SOP.ORG.10.
A13: 8 | B13: Informaticasystemen | C13: Uitval Cyberlab order entry | D13: Artsen kunnen geen nieuwe elektronisch orders maken noch bijaanvragen, mogelijk vertraging van beschikbaarheid van (kritische) resultaten met als gevolg impact op patiëntenzorg. Geen mogelijkheid tot afdrukken van etiketten van alreeds aangemaakte orders. Bloedafnames lopen vertraging op met als gevolg vertraging van beschikbaarheid van (kritische) resultaten met als gevolg impact op patiëntenzorg. | E13: IT probleem | F13: Verwittig de IT-verantwoordelijke van het labo en de IT-dienst van het Ziekenhuis (of wachtdienst IT). Verwittig de klinisch bioloog van routine/wacht. De klinisch bioloog verwittigt de artsen en hoofdverpleegkundigen via e-mail en/of boodschap op intranet met verwijzing naar procedure Noodplan IT: Cyberlab. Papieren aanvraagformulieren kunnen in het labo worden afgehaald. Indien noodzakelijk kunnen de etiketten van urgente stalen van alreeds gemaakte orders in labo worden afgehaald. Deze etiketten kunnen wel nog via GLIMS worden afgedrukt. Artsen kunnen een order (of bijaanvraag) maken via de papieren aanvraagformulieren. De tubes worden gelabeld met naam en geboortedatum van de patiënt. | G13: 3 | H13: 3 | I13: 2 | J13: =G13*H13*I13 -> 18 | K13: =IF(J13<'Vaste data'!$A$9," Aanvaardbaar ",IF(J13<='Vaste data'!$A$10,"Aanvaardbaar",IF(J13>='Vaste data'!$A$11,"Niet aanvaardbaar, dringend actie nodig","Aanvaardbaar, actie nodig"))) -> Aanvaardbaar | M13: Opgenomen in SOP.ORG.10.
A14: 9 | B14: Informaticasystemen | C14: Uitval cyberlab resultviewing | D14: Resultaten van patiënten zijn niet zichtbaar voor artsen via de gebruikelijke manier alsook niet via back-up manier Cyberlab, mogelijk laattijdig zichtbaar worden van (kritische) resultaten met als gevolg impact op patiëntenzorg. | E14: IT probleem | F14: Verwittig de IT-verantwoordelijke van het labo en de IT-dienst van het Ziekenhuis (of wachtdienst IT). Verwittig de klinisch bioloog van routine of van wacht (afhankelijk van tijdstip). De klinisch bioloog verwittigt de artsen en hoofdverpleegkundigen via e-mail en/of boodschap op intranet. Administratie/MLT's drukken resultaten af via GLIMS en bezorgen de resultaten van de afdelingen spoed en intensieve zorgen via buizenpost en/of fax. Op specifieke vraag van een arts kunnen resultaten van een patiënt op een andere afdeling ook worden afgedrukt en bezorgd via fax in geval van urgentie. | G14: 3 | H14: 3 | I14: 2 | J14: =G14*H14*I14 -> 18 | K14: =IF(J14<'Vaste data'!$A$9," Aanvaardbaar ",IF(J14<='Vaste data'!$A$10,"Aanvaardbaar",IF(J14>='Vaste data'!$A$11,"Niet aanvaardbaar, dringend actie nodig","Aanvaardbaar, actie nodig"))) -> Aanvaardbaar | M14: Opgenomen in SOP.ORG.10.
A15: 10 | B15: Informaticasystemen | C15: Hacking van IT systemen | D15: patiëntendata/gegevens zichtbaar voor onbevoegden, datalek, mogelijks verstoorde werking toestellen/software/… | E15: Onvoldoende beveiliging, onvoldoende afspraken met IT ziekenhuis | F15: Laboniveau: Geen fysieke noch digitale toegang voor onbevoegden in labo/labosystemen. SLA IT. Bij hacking: instructies van IT op volgen. | G15: 3 | H15: 2 | I15: 2 | J15: =G15*H15*I15 -> 12 | K15: =IF(J15<'Vaste data'!$A$9," Aanvaardbaar ",IF(J15<='Vaste data'!$A$10,"Aanvaardbaar",IF(J15>='Vaste data'!$A$11,"Niet aanvaardbaar, dringend actie nodig","Aanvaardbaar, actie nodig"))) -> Aanvaardbaar | M15: Opgenomen in SOP.ORG.10.
A16: 11 | B16: Personeel | C16: Ziekte MLT late of nachtdienst | D16: Tijdens late en nachtdienst is er sowieso een lage bezetting in het labo. Nacht: 1 MLT. Werking van labo kan niet gegarandeerd worden met als mogelijk gevolg laattijdig rapportage van (kritische) resultaten, vertraging van diagnostiek en impact op patiëntzorg. | E16: Ziekte/overmacht. | F16: HoofdMLT of klinisch bioloog (bv. in weekend) wordt verwittigd. Er wordt vervanging gezocht door HMLT of klinisch bioloog met behulp van de telefoonboom (indien onmiddellijk nodig). Als de afwezigheid gemeld wordt voor ingang shift (bv. dag op voorhand), zal de HMLT een oproep doen voor vrijwilligers. | G16: 2 | H16: 2 | I16: 2 | J16: =G16*H16*I16 -> 8 | K16: =IF(J16<'Vaste data'!$A$9," Aanvaardbaar ",IF(J16<='Vaste data'!$A$10,"Aanvaardbaar",IF(J16>='Vaste data'!$A$11,"Niet aanvaardbaar, dringend actie nodig","Aanvaardbaar, actie nodig"))) -> Aanvaardbaar | M16: Opgenomen in SOP.ORG.10.
A17: 12 | B17: Personeel | C17: >1/3 van MLT's ziek | D17: Plots of progressief ziekteverzuim (bv. griep, COVID, andere infectieuze uitbraak) waardoor onvoldoende gekwalificeerd personeel beschikbaar is om de routine laboratoriumactiviteiten volgens de normale planning uit te voeren met als mogelijk gevolg laattijdig rapportage van (kritische) resultaten en impact op patiëntzorg. | E17: Ziekte/overmacht (bv. pandemie). | F17: Overleg tussen HMLT's en KB. Opties corelab: werkposten 5 en 6 in frequentie verminderen bv. 1 x per 2 of 3 dagen. Of enkel 'dringende' stalen van deze werkposten bemannen. Cobaswerkpost (werkpost 4) in de NM met één persoon. HMLT's kunnen inspringen op de werkvloer. KB kan cellavision en microscopie vochten doen. Opties bacterio: werken met minimale bezetting, assistent microbiologie en HMLT bacterio kunnen mee ingezet worden in de routine,... Dit zal situatie per situatie besproken dienen te worden. Hoofddoel: werkposten met dringende stalen dienen altijd bemand te blijven. Zie verder SOP.ORG.10. | G17: 3 | H17: 2 | I17: 3 | J17: =G17*H17*I17 -> 18 | K17: =IF(J17<'Vaste data'!$A$9," Aanvaardbaar ",IF(J17<='Vaste data'!$A$10,"Aanvaardbaar",IF(J17>='Vaste data'!$A$11,"Niet aanvaardbaar, dringend actie nodig","Aanvaardbaar, actie nodig"))) -> Aanvaardbaar | M17: Opgenomen in SOP.ORG.10.
A18: 13 | B18: Extern | C18: Geen watertoevoer | D18: geen watertoevoer voor toestellen, hygiëne: handen kunnen niet gewassen worden,... | E18: Werken in ZH, algemeen probleem | F18: Technische dienst onmiddellijk verwittigen! Enkel probleem in onze blok -> Indien een plaatselijk probleem kan er m.b.h.v. waterslang watertoevoer gegarandeerd worden -> probleem asap op te lossen en labo kan blijven draaien. Ziekenhuisbreed probleem: Inschatten duur probleem? De klinisch bioloog verwittigt de artsen en hoofdverpleegkundigen via e-mail en/of boodschap op intranet. Toestellen die watertoevoer nodig hebben afsluiten. Dringende stalen triëren naar externe labo's in overleg met KB. | G18: 5 | H18: 1 | I18: 2 | J18: =G18*H18*I18 -> 10 | K18: =IF(J18<'Vaste data'!$A$9," Aanvaardbaar ",IF(J18<='Vaste data'!$A$10,"Aanvaardbaar",IF(J18>='Vaste data'!$A$11,"Niet aanvaardbaar, dringend actie nodig","Aanvaardbaar, actie nodig"))) -> Aanvaardbaar | M18: Opgenomen in SOP.ORG.10.
A19: 14 | B19: Toestel | C19: Uitval toestel | D19: Vertraging in vrijgave van (kritische) resultaten met als gevolg impact op patiëntenzorg. | E19: Algemene slijtage, cruciaal onderdeel is stuk, foutief gebruik, niet tijdig uitvoeren onderhoud,… | F19: Zie toestelspecifieke validaties. Algemeen: 1) kritisch toestel? Back-up in het labo. Eventueel Back-up in het netwerk. 2) Onderhoudscontracten met firma's. Stalen kunnen in uiterste nood en steeds in overleg met een klinisch bioloog naar een extern labo worden gestuurd. Indien nodig (vertraging > 1 uur + evaluatie hoe kritisch de testen zijn) verwittigt de KB de artsen en hoofdverpleegkundigen via e-mail en/of boodschap op intranet. | G19: 3 | H19: 4 | I19: 2 | J19: =G19*H19*I19 -> 24 | K19: =IF(J19<'Vaste data'!$A$9," Aanvaardbaar ",IF(J19<='Vaste data'!$A$10,"Aanvaardbaar",IF(J19>='Vaste data'!$A$11,"Niet aanvaardbaar, dringend actie nodig","Aanvaardbaar, actie nodig"))) -> Aanvaardbaar | M19: Opgenomen in SOP.ORG.10. Wordt per toestel afgesproken. Onderhoudscontracten zitten in kwaliteitssysteem, eventueel back-up regelingen staan beschreven in risico-analyse van toestel zelf.
A20: 15 | B20: Prikdienst | C20: Onwel worden van ambulante patiënt prik | D20: potentieel gevaar voor patiënt | E20: ziekte, onwel,… | F20: Opgenomen in SOP.ORG.10 NOODPLAN LABORATORIUM. Intern noodoproepsysteem: Dit alarm kan gebruikt worden indien een patiënt zich onwel voelt of indien je hulp nodig hebt in het priklokaal en je de patiënt niet alleen kan laten. Er zijn in het labo vier locaties met een intern noodoproepsysteem: de twee priklokalen, het toilet aan de wachtzaal van het labo en administratie. | G20: 3 | H20: 5 | I20: 1 | J20: =G20*H20*I20 -> 15 | K20: =IF(J20<'Vaste data'!$A$9," Aanvaardbaar ",IF(J20<='Vaste data'!$A$10,"Aanvaardbaar",IF(J20>='Vaste data'!$A$11,"Niet aanvaardbaar, dringend actie nodig","Aanvaardbaar, actie nodig"))) -> Aanvaardbaar | M20: Opgenomen in SOP.ORG.10 NOODPLAN LABORATORIUM.
A21: 16 | B21: Prikdienst | C21: Accuut gevaar van ambulante patiënt | D21: gevaar voor patiënt | E21: ziekte, onwel,… | F21: Opgenomen in SOP.ORG.10 NOODPLAN LABORATORIUM. DIGI-alarm: Onder Digi-alarm verstaan we een alarmering van het Digiteam van ITE en spoedgevallen. Dit is een oproep bij medische urgentie en grensoverschreidende agressie. | G21: 5 | H21: 2 | I21: 1 | J21: =G21*H21*I21 -> 10 | K21: =IF(J21<'Vaste data'!$A$9," Aanvaardbaar ",IF(J21<='Vaste data'!$A$10,"Aanvaardbaar",IF(J21>='Vaste data'!$A$11,"Niet aanvaardbaar, dringend actie nodig","Aanvaardbaar, actie nodig"))) -> Aanvaardbaar | M21: Opgenomen in SOP.ORG.10 NOODPLAN LABORATORIUM.
A22: 17 | B22: Algemeen | C22: Agressie (verbaal of fysiek) van een patiënt. | D22: gevaar voor medewerkers | E22: menselijke oorzaak | F22: Opgenomen in SOP.ORG.10 NOODPLAN LABORATORIUM. DIGI-alarm: Onder Digi-alarm verstaan we een alarmering van het Digiteam van ITE en spoedgevallen. Dit is een oproep bij medische urgentie en grensoverschreidende agressie. | G22: 3 | H22: 2 | I22: 2 | J22: =G22*H22*I22 -> 12 | K22: =IF(J22<'Vaste data'!$A$9," Aanvaardbaar ",IF(J22<='Vaste data'!$A$10,"Aanvaardbaar",IF(J22>='Vaste data'!$A$11,"Niet aanvaardbaar, dringend actie nodig","Aanvaardbaar, actie nodig"))) -> Aanvaardbaar | M22: Opgenomen in SOP.ORG.10 NOODPLAN LABORATORIUM.
A23: 18 | B23: Noodprocedure algemeen | C23: Onvoldoende gekend bij MLT's | D23: Niet adequat reageren op noodsituatie | E23: onvoldoende opleiding/onvoldoende herhaling | F23: Er zijn SOP's ter beschikking raadpleegbaar via Mithras. Aan het secretariaat (naast de deuropening aan het HMLT-lokaal) is er ook een bakje met procedurekaarten aanwezig over de noodprocedure. | G23: 4 | H23: 2 | I23: 3 | J23: =G23*H23*I23 -> 24 | K23: =IF(J23<'Vaste data'!$A$9," Aanvaardbaar ",IF(J23<='Vaste data'!$A$10,"Aanvaardbaar",IF(J23>='Vaste data'!$A$11,"Niet aanvaardbaar, dringend actie nodig","Aanvaardbaar, actie nodig"))) -> Aanvaardbaar | L23: Opleiding intern organiseren -> AF1961.AC1 (actie in Mithras). 08/01/2025: opleiding werd gegeven. 1/06/2026: idee om een e-learning te maken rond noodprocedures.
A24: 19 | B24: Informaticasystemen: Uitval GLIMS | C24: Onvoldoende gekend bij MLT's | D24: Niet adequat reageren op noodsituatie | E24: onvoldoende opleiding/onvoldoende herhaling | F24: Er zijn is ieder kwartaal een geplande GLIMS-onderbreking. Tijdens deze geplande momenten wordt er identiek gewerkt als bij een niet geplande GLIMS-onderbreking. De procedure is dus goed gekend door het personeel. | G24: 4 | H24: 2 | I24: 2 | J24: =G24*H24*I24 -> 16 | K24: =IF(J24<'Vaste data'!$A$9," Aanvaardbaar ",IF(J24<='Vaste data'!$A$10,"Aanvaardbaar",IF(J24>='Vaste data'!$A$11,"Niet aanvaardbaar, dringend actie nodig","Aanvaardbaar, actie nodig"))) -> Aanvaardbaar | M24: Gedocumenteerd. DOC.ORG.30 en BLB.STK.18
A25: 20 | B25: Noodsitutatie (algemeen) intern in het labo tijdens wachtmomenten (lage bezetting) | C25: te weinig personeel om noodsituatie aan te kunnen | D25: chaos, paniek, vertaging resultaten bij dringende stalen | E25: te weinig personeel | F25: SOP.ORG.10 NOODPLAN LABORATORIUM; Wanneer de beschreven problemen zich tijdens de wachtdienst voordoen, wordt dezelfde procedure gevolgd. Indien assistentie gewenst, kan de telefoonlijst van alle medewerkers geraadpleegd worden. STK.ORG.2: “Telefoonboom laboratorium met verplaatsingstijd” | G25: 4 | H25: 2 | I25: 2 | J25: =G25*H25*I25 -> 16 | K25: =IF(J25<'Vaste data'!$A$9," Aanvaardbaar ",IF(J25<='Vaste data'!$A$10,"Aanvaardbaar",IF(J25>='Vaste data'!$A$11,"Niet aanvaardbaar, dringend actie nodig","Aanvaardbaar, actie nodig"))) -> Aanvaardbaar | M25: Opgenomen in SOP.ORG.10.
A26: 21 | B26: Noodsitutatie extern tijdens wachtmomenten (lage bezetting) | C26: te weinig personeel om noodsituatie aan te kunnen | D26: chaos, paniek, vertaging resultaten bij dringende stalen | E26: te weinig personeel | F26: SOP.ORG.10 NOODPLAN LABORATORIUM. De ontvanger contacteert onmiddelijk een van de KB en werkt procedure kaart EXT. 17 af. | G26: 4 | H26: 2 | I26: 2 | J26: =G26*H26*I26 -> 16 | K26: =IF(J26<'Vaste data'!$A$9," Aanvaardbaar ",IF(J26<='Vaste data'!$A$10,"Aanvaardbaar",IF(J26>='Vaste data'!$A$11,"Niet aanvaardbaar, dringend actie nodig","Aanvaardbaar, actie nodig"))) -> Aanvaardbaar | M26: Opgenomen in SOP.ORG.10.
A27: 22 | B27: Analytisch: werken met gevaarlijke producten | C27: morsen, schadelijke gassen inademen,… | D27: verbranding, gevaar voor gezondheid | E27: Geen correcte handelswijze met producten, menselijke fout | F27: Bijna uitsluitend werken met ready-to-use kits, geen mogelijkheid tot morsen. Oplijsting in DOC.ORG.15 CHEMICALIËNREGISTER + Werkwijze chemicaliën. | G27: 4 | H27: 2 | I27: 2 | J27: =G27*H27*I27 -> 16 | K27: =IF(J27<'Vaste data'!$A$9," Aanvaardbaar ",IF(J27<='Vaste data'!$A$10,"Aanvaardbaar",IF(J27>='Vaste data'!$A$11,"Niet aanvaardbaar, dringend actie nodig","Aanvaardbaar, actie nodig"))) -> Aanvaardbaar | L27: Opleiding intern organiseren -> AF1961.AC1 (actie in Mithras) | M27: Oplijsting in DOC.ORG.15 CHEMICALIËNREGISTER
A28: 23 | B28: Toegang tot labo | C28: Onbevoegde personen komen labo binnen | D28: vertrouwelijkheid patiëntendata komt in gevraar, veiligheid personeel, … | E28: Geen toegangscontrole | F28: Tussen 08u00 - 17u00 kan men tot aan administratie/balie komen zonder badge. De balie is steeds bemand. Alle personen (geen medewerkers HHZHLier) komen enkel binnen op afspraak met bezoekersregistratie. Tijdens de late uren en nacht (balie is niet steeds bemand) sluit de toegangsdeur en kan men enkel toetreden tot het labo met badge van het ziekenhuis. | G28: 2 | H28: 1 | I28: 1 | J28: =G28*H28*I28 -> 2 | K28: =IF(J28<'Vaste data'!$A$9," Aanvaardbaar ",IF(J28<='Vaste data'!$A$10,"Aanvaardbaar",IF(J28>='Vaste data'!$A$11,"Niet aanvaardbaar, dringend actie nodig","Aanvaardbaar, actie nodig"))) -> Aanvaardbaar | M28: Niet nodig om op te nemen in SOP.ORG.10.
A29: 24 | B29: Koelkasten/bewaring | C29: Uitval koelkast | D29: Bewaarserum mogelijks niet meer stabiel, Reagentia mogelijk niet meer stabiel | E29: veroudering koelkast | F29: Continue T-monitoring met alarmsysteem (Mirrhia) -> directe alarmering. Kijk na of het een kritische koelkast is (STK.ORG.88). De MLT checkt de inhoud van de koelkast. De MLT verwittigt de HMLT of KB van routine/wacht en beoordeelt samen de inhoud van de koelkast o.a. door de stabiliteit van de inhoud te controleren, wat is de temperatuur in de koelkast bij het ontdekken van het probleem, hoelang werd de temperatuur overschreden?,... Markeer de hele inhoud van de koelkast omwille van traceerbaarheid. Verplaats de inhoud naar een andere koelkast onder T-monitoring. Bij reagentia: er is altijd een ingangscontrole vooraleer er stalen worden gedraaid. Er is een check op stabiliteit. Geen impact op patiënt indien iQC's in orde zijn. Bij bewaarserum: Bijaanvragen op gemarkeerde stalen worden altijd besproken met de klinisch bioloog of ASO. Indien het nog mogelijk is om een bijaanvraag uit te voeren, wordt er een commentaar toegevoegd aan het rapport qua stabiliteit. Registratie van T-afwijkingen in Mithras. | G29: 2 | H29: 3 | I29: 1 | J29: =G29*H29*I29 -> 6 | K29: =IF(J29<'Vaste data'!$A$9," Aanvaardbaar ",IF(J29<='Vaste data'!$A$10,"Aanvaardbaar",IF(J29>='Vaste data'!$A$11,"Niet aanvaardbaar, dringend actie nodig","Aanvaardbaar, actie nodig"))) -> Aanvaardbaar | M29: Opgenomen in SOP.ORG.10
A30: 25 | B30: Diepvries | C30: Uitval diepvries | D30: Bewaarserum niet meer bruikbaar /serotheek | E30: veroudering diepvries | F30: entie maatregelen + te nemen acties: Continue T-monitoring met alarmsysteem (Mirrhia) -> directe alarmering. Kijk na of het kritische koelkast is (STK.ORG.88). De MLT checkt de inhoud diepvries. De MLT verwittigt de HMLT of KB van routine/wacht en beoordeelt samen de inhoud van de diepvries o.a. door de stabiliteit van de inhoud te controleren, wat is de temperatuur in de diepvries bij het ontdekken van het probleem, hoelang werd de temperatuur overschreden?,... Markeer de hele inhoud van de hele diepvries omwille van traceerbaarheid. Verplaats de inhoud naar een andere diepvries onder T-monitoring. Bij reagentia: er is altijd een ingangscontrole vooraleer er stalen worden gedraaid. Er is een check op stabiliteit. Geen impact op patiënt indien iQC's in orde. Bij bewaarserum: Bijaanvragen op gemarkeerde stalen worden altijd besproken met de klinisch bioloog of ASO. Indien het nog mogelijk is om een bijaanvraag uit te voeren, wordt er een commentaar toegevoegd aan het rapport qua stabiliteit. Registratie T-afwijkingen in Mithras. | G30: 2 | H30: 3 | I30: 1 | J30: =G30*H30*I30 -> 6 | K30: =IF(J30<'Vaste data'!$A$9," Aanvaardbaar ",IF(J30<='Vaste data'!$A$10,"Aanvaardbaar",IF(J30>='Vaste data'!$A$11,"Niet aanvaardbaar, dringend actie nodig","Aanvaardbaar, actie nodig"))) -> Aanvaardbaar | M30: Opgenomen in SOP.ORG.10
A31: 26 | B31: Koelcel | C31: Uitval koelcel | D31: Uitval van een koelcel kan leiden tot T-stijging met degradatie van reagentia en/of bewaarserum tot gevolg. | E31: veroudering koelcel / toestelpanne | F31: Continue T-monitoring met alarmsysteem (Mirrhia) -> directe alarmering. De koelcel is een kritisch systeem (STK.ORG.88). De MLT verwittigt onmiddelijk de technische dienst (urgentie!). De MLT verwittigt HMLT of KB van routine/wacht en beoordeelt samen de inhoud van de koelcel o.a. door de stabiliteit van de inhoud te controleren, wat is de temperatuur in de koelcel bij het ontdekken van het probleem, hoelang werd de temperatuur overschreden?,... Markeer de hele inhoud (reagentia) omwille van traceerbaarheid. Verplaats de inhoud naar andere koelkasten onder T-monitoring. Back-up koelkasten: Eigen interne koelkasten. Indien nodig contacteer apotheek en pathologie met de vraag of er ruimte vrij is in hun koelkasten (met T-monitoring). Beoordeel samen met HMLT/KB hoe T-kritisch de verschillende reagentia zijn en bepaal de volgorde van plaatsing in de back-up koelkasten. Bij reagentia: Er is altijd een ingangscontrole vooraleer er stalen worden gedraaid. Er is een check op stabiliteit. Geen impact op patiënt indien iQC's in orde. Registratie T-afwijkingen in Mithras. | G31: 3 | H31: 3 | I31: 1 | J31: =G31*H31*I31 -> 9 | K31: =IF(J31<'Vaste data'!$A$9," Aanvaardbaar ",IF(J31<='Vaste data'!$A$10,"Aanvaardbaar",IF(J31>='Vaste data'!$A$11,"Niet aanvaardbaar, dringend actie nodig","Aanvaardbaar, actie nodig"))) -> Aanvaardbaar | M31: Opgenomen in SOP.ORG.10
A32: 27 | B32: Labo bacterio | C32: ontploffing | D32: brand in labo | E32: Gaslek | F32: Gaskraan wordt op einde van de dag steeds dichtgedraaid. SOP.ORG.10 NOODPLAN LABORATORIUM. | G32: 5 | H32: 1 | I32: 2 | J32: =G32*H32*I32 -> 10 | K32: =IF(J32<'Vaste data'!$A$9," Aanvaardbaar ",IF(J32<='Vaste data'!$A$10,"Aanvaardbaar",IF(J32>='Vaste data'!$A$11,"Niet aanvaardbaar, dringend actie nodig","Aanvaardbaar, actie nodig"))) -> Aanvaardbaar | M32: Opgenomen in SOP.ORG.10
A33: 28 | B33: T-monitoring defect | C33: Uitval koelkast, koelcel, diepvries en/of airco wordt niet meteen opgemerkt als T-monitoring niet werkt. T wordt niet meer gemonitord. | D33: Geen bewaking meer van de kritische labo omgeving (o.a. T koelkast/cel, diepvries, broedstoof, omgeving) met als gevolg mogelijk missing van een T-overschrijding. Er worden tijdelijk geen alarmen gegenereerd. Het missen van T-alarmen kan o.a. leiden tot degradatie reagentia, foutieve bewaring van patiëntstalen, toestelproblemen (door warmte),... | E33: IT-probleem (software), 1 monitor kan defect zijn. | F33: De MLT verwittigt onmiddellijk de technische dienst (urgentie!). De MLT verwittigt de HMLT en/of KB van routine/wacht. Tijdelijke manuele monitoring op 5 vaste tijdstippen per 24h. | G33: 5 | H33: 2 | I33: 2 | J33: =G33*H33*I33 -> 20 | K33: =IF(J33<'Vaste data'!$A$9," Aanvaardbaar ",IF(J33<='Vaste data'!$A$10,"Aanvaardbaar",IF(J33>='Vaste data'!$A$11,"Niet aanvaardbaar, dringend actie nodig","Aanvaardbaar, actie nodig"))) -> Aanvaardbaar | L33: 01/06/2026: Steekkaarten aanmaken voor manuele T opvolging FORM.ORG.80 (5 vaste tijdstippen) | M33: Opgenomen in SOP.ORG.10
A34: 29 | B34: airco's/cooling labo | C34: Uitval aircosysteem labo | D34: Uitval van de airconditioning kan leiden tot stijging van de omgevingstemperatuur in het laboratorium. Dit kan invloed hebben op de performantie van de analysetoestellen, stabiliteit van reagentia en de opslagcondities. | E34: veroudering airco's | F34: Continue T-monitoring met alarmsysteem (Mirrhia) -> directe alarmering als uitval van airco tot een T-stijging zou leiden. De MLT contacteert onmiddellijk de technische dienst (urgentie!) en verwittig de HMLT en/of KB van routine/wacht. T-monitoring nauwlettend opvolgen, eventueel gebruik maken van mobiele airco's (te verkrijgen via technische dienst). | G34: 5 | H34: 2 | I34: 2 | J34: =G34*H34*I34 -> 20 | K34: =IF(J34<'Vaste data'!$A$9," Aanvaardbaar ",IF(J34<='Vaste data'!$A$10,"Aanvaardbaar",IF(J34>='Vaste data'!$A$11,"Niet aanvaardbaar, dringend actie nodig","Aanvaardbaar, actie nodig"))) -> Aanvaardbaar | M34: Opgenomen in SOP.ORG.10
A35: 30 | B35: Labogids | C35: Labogids niet meer beschikbaar | D35: Info over de verschillende analyses is niet meer beschikbaar voor artsen en verpleegkundigen. | E35: IT-probleem | F35: Contacteert IT labo. Op onze doorstuurformulieren staat naar waar welk analyse moet en of er een voorbehandeling nodig is. Verpleging kan telefonisch inlichtingen vragen over af te nemen tubes (bij onduidelijkheden). | G35: 2 | H35: 2 | I35: 1 | J35: =G35*H35*I35 -> 4 | K35: =IF(J35<'Vaste data'!$A$9," Aanvaardbaar ",IF(J35<='Vaste data'!$A$10,"Aanvaardbaar",IF(J35>='Vaste data'!$A$11,"Niet aanvaardbaar, dringend actie nodig","Aanvaardbaar, actie nodig"))) -> Aanvaardbaar | M35: Opgenomen in SOP.ORG.10
A36: 31 | B36: Analyse niveau | C36: Bepaald reagenstype is onbeschikbaar. | D36: Stalen kunnen niet geanalyseerd worden waardoor vertraging in vrijgave van (kritische) resultaten met als gevolg impact op patiëntenzorg. | E36: stockbreuk firma's, te weinig besteld, meer verbruik dan normaal | F36: Leveringsabonnementen zijn opgesteld bij bepaalde firma's. Er is intern een goed stockbeheer. Stockbreuken worden meestal actief (en op voorhand) gemeld door de firma waardoor er al een oplossing kan gezocht worden vooraleer het probleem zich voordoet. MLT verwittigt KB. De firma wordt gecontacteerd voor een dringende levering (indien mogelijk). Een naburige ziekenhuis/labo kan gecontacteerd worden indien er gewerkt wordt met zelfde reagenskit om ons uit de nood te helpen. Bij stockproblemen firma: overwegen om stalen door te sturen naar een ander labo dewelke werkt met een type reagentia voor deze bepaalde parameter. | G36: 3 | H36: 4 | I36: 1 | J36: =G36*H36*I36 -> 12 | K36: =IF(J36<'Vaste data'!$A$9," Aanvaardbaar ",IF(J36<='Vaste data'!$A$10,"Aanvaardbaar",IF(J36>='Vaste data'!$A$11,"Niet aanvaardbaar, dringend actie nodig","Aanvaardbaar, actie nodig"))) -> Aanvaardbaar | M36: Opgenomen in SOP.ORG.10
A37: 32 | B37: Bewaring kweken bacterio | C37: Uitval van een van de broedstoven | D37: Kweken worden niet op de correct manier bewaard zodat groei niet optimaal is. Hierdoor zijn de resultaten niet betrouwbaar. | E37: toestelfalen | F37: Check gasfles? Indien de gasfles leeg is, contacteer de technische dienst. Bij een ander technisch probleem, contacteer de technische dienst, de firma en de klinisch bioloog (microbioloog of van wacht). Bespreek met de klinisch bioloog de direct te nemen acties (afhankelijk van type broedstoof): Schimmelbroedstoof: directe geen actie (verzetten stalen) Campylobacterbroedstoof: schimmelstalen verplaatsen naar kamertemperatuur en T van de schimmelbroedstoof verzetten naar 40°C. Plaats hierin de campylobacterpot. CO2 broedstoof: HK en ETA/BAL stalen in glazen bokaal plaatsen (via technische dienst) met kaarsje erin. Deze bokaal dient dan in de 37°C BS geplaatst te worden. Stoof zoveel mogelijk dichthouden. 37°C broedstoof: HK en ETA/BAL stalen in de CO2 broedstoof, aan te vullen met zoveel mogelijk kweken van etter en urine. Stoof zoveel mogelijk dichthouden. | G37: 3 | H37: 1 | I37: 1 | J37: =G37*H37*I37 -> 3 | K37: =IF(J37<'Vaste data'!$A$9," Aanvaardbaar ",IF(J37<='Vaste data'!$A$10,"Aanvaardbaar",IF(J37>='Vaste data'!$A$11,"Niet aanvaardbaar, dringend actie nodig","Aanvaardbaar, actie nodig"))) -> Aanvaardbaar | M37: Opgenomen in SOP.ORG.10
